|SUCCESS| pw128785 [PATCH] [v7] app/dma-perf: introduce dma-perf app

dpdklab at iol.unh.edu dpdklab at iol.unh.edu
Sun Jun 18 15:33:54 CEST 2023


Test-Label: iol-abi-testing
Test-Status: SUCCESS
http://dpdk.org/patch/128785

_Testing PASS_

Submitter: Cheng Jiang <Cheng1.jiang at intel.com>
Date: Sunday, June 18 2023 12:26:29 
DPDK git baseline: Repo:dpdk
  Branch: master
  CommitID:7556a1a355fb377279508735f7afc1faf1d00158

128785 --> testing pass

Test environment and result as below:

+-----------------+----------+
|   Environment   | abi_test |
+=================+==========+
| Ubuntu 22.04    | PASS     |
+-----------------+----------+
| Debian Bullseye | PASS     |
+-----------------+----------+
| RHEL 7          | PASS     |
+-----------------+----------+


Ubuntu 22.04
	Kernel: 4.18.0-240.10.1.el8_3.x86_64
	Compiler: gcc 11.3.0

Debian Bullseye
	Kernel: 5.4.0-122-generic
	Compiler: gcc 10.2.1-6

RHEL 7
	Kernel: 4.18.0-240.10.1.el8_3.x86_64
	Compiler: gcc 4.8.5 20150623 (Red Hat 4.8.5-44)

To view detailed results, visit:
https://lab.dpdk.org/results/dashboard/patchsets/26729/

UNH-IOL DPDK Community Lab

To manage your email subscriptions, visit: 
https://lab.dpdk.org/results/dashboard/preferences/subscriptions/


More information about the test-report mailing list