|SUCCESS| pw128787 [PATCH] [v2] config/arm: add Ampere Altra/AltraMa

dpdklab at iol.unh.edu dpdklab at iol.unh.edu
Mon Jun 19 10:06:31 CEST 2023


Test-Label: iol-abi-testing
Test-Status: SUCCESS
http://dpdk.org/patch/128787

_Testing PASS_

Submitter: Yutang Jiang <jiangyutang at os.amperecomputing.com>
Date: Thursday, June 15 2023 11:24:23 
DPDK git baseline: Repo:dpdk
  Branch: master
  CommitID:7556a1a355fb377279508735f7afc1faf1d00158

128787 --> testing pass

Test environment and result as below:

+-----------------+----------+
|   Environment   | abi_test |
+=================+==========+
| RHEL 7          | PASS     |
+-----------------+----------+
| Fedora 38       | PASS     |
+-----------------+----------+
| CentOS Stream 9 | PASS     |
+-----------------+----------+


RHEL 7
	Kernel: 4.18.0-240.10.1.el8_3.x86_64
	Compiler: gcc 4.8.5 20150623 (Red Hat 4.8.5-44)

Fedora 38
	Kernel: Depends on container host
	Compiler: clang 16.0.3

CentOS Stream 9
	Kernel: 4.18.0-240.10.1.el8_3.x86_64
	Compiler: gcc 11.3.1 20220421

To view detailed results, visit:
https://lab.dpdk.org/results/dashboard/patchsets/26730/

UNH-IOL DPDK Community Lab

To manage your email subscriptions, visit: 
https://lab.dpdk.org/results/dashboard/preferences/subscriptions/


More information about the test-report mailing list