|SUCCESS| pw128788 [PATCH] test/pdcp: remove side affect from assert
dpdklab at iol.unh.edu
dpdklab at iol.unh.edu
Mon Jun 19 11:45:49 CEST 2023
Test-Label: iol-abi-testing
Test-Status: SUCCESS
http://dpdk.org/patch/128788
_Testing PASS_
Submitter: Volodymyr Fialko <vfialko at marvell.com>
Date: Monday, June 19 2023 09:04:03
DPDK git baseline: Repo:dpdk
Branch: master
CommitID:7556a1a355fb377279508735f7afc1faf1d00158
128788 --> testing pass
Test environment and result as below:
+-----------------+----------+
| Environment | abi_test |
+=================+==========+
| Debian Bullseye | PASS |
+-----------------+----------+
| Fedora 37 | PASS |
+-----------------+----------+
| RHEL8 | PASS |
+-----------------+----------+
| RHEL 7 | PASS |
+-----------------+----------+
Debian Bullseye
Kernel: 5.4.0-122-generic
Compiler: gcc 10.2.1-6
Fedora 37
Kernel: Depends on container host system
Compiler: gcc 12.3.1
RHEL8
Kernel: 4.18.0-240.10.1.el8_3.x86_64
Compiler: gcc 8.3.1 20191121 (Red Hat 8.3.1-5)
RHEL 7
Kernel: 4.18.0-240.10.1.el8_3.x86_64
Compiler: gcc 4.8.5 20150623 (Red Hat 4.8.5-44)
To view detailed results, visit:
https://lab.dpdk.org/results/dashboard/patchsets/26731/
UNH-IOL DPDK Community Lab
To manage your email subscriptions, visit:
https://lab.dpdk.org/results/dashboard/preferences/subscriptions/
More information about the test-report
mailing list