|SUCCESS| pw128850 [PATCH] net/cnxk: fix incorrect queue index valid
dpdklab at iol.unh.edu
dpdklab at iol.unh.edu
Tue Jun 20 15:05:41 CEST 2023
Test-Label: iol-abi-testing
Test-Status: SUCCESS
http://dpdk.org/patch/128850
_Testing PASS_
Submitter: Satheesh Paul Antonysamy <psatheesh at marvell.com>
Date: Tuesday, June 20 2023 11:01:37
DPDK git baseline: Repo:dpdk-next-net-mrvl
Branch: master
CommitID:1bbd8d9a1025b7c82d903989acbccfe083869f4b
128850 --> testing pass
Test environment and result as below:
+------------------+----------+
| Environment | abi_test |
+==================+==========+
| Fedora 37 | PASS |
+------------------+----------+
| CentOS Stream 8 | PASS |
+------------------+----------+
| Debian Bullseye | PASS |
+------------------+----------+
| RHEL 7 | PASS |
+------------------+----------+
| Fedora 38 | PASS |
+------------------+----------+
| Debian Buster | PASS |
+------------------+----------+
| openSUSE Leap 15 | PASS |
+------------------+----------+
| Ubuntu 22.04 | PASS |
+------------------+----------+
Fedora 37
Kernel: Depends on container host system
Compiler: gcc 12.3.1
CentOS Stream 8
Kernel: 4.18.0-240.10.1.el8_3.x86_64
Compiler: gcc 8.4.1 20200928
Debian Bullseye
Kernel: 5.4.0-122-generic
Compiler: gcc 10.2.1-6
RHEL 7
Kernel: 4.18.0-240.10.1.el8_3.x86_64
Compiler: gcc 4.8.5 20150623 (Red Hat 4.8.5-44)
Fedora 38
Kernel: Depends on container host
Compiler: gcc 13.1.1
Debian Buster
Kernel: 5.4.0-122-generic
Compiler: gcc 8.3.0-6
openSUSE Leap 15
Kernel: 4.18.0-240.10.1.el8_3.x86_64
Compiler: gcc 7.5.0
Ubuntu 22.04
Kernel: 4.18.0-240.10.1.el8_3.x86_64
Compiler: gcc 11.3.0
To view detailed results, visit:
https://lab.dpdk.org/results/dashboard/patchsets/26748/
UNH-IOL DPDK Community Lab
To manage your email subscriptions, visit:
https://lab.dpdk.org/results/dashboard/preferences/subscriptions/
More information about the test-report
mailing list