|SUCCESS| pw128849 [PATCH] [v7] crypto/qat: default to IPsec MB for

dpdklab at iol.unh.edu dpdklab at iol.unh.edu
Tue Jun 20 15:28:55 CEST 2023


Test-Label: iol-abi-testing
Test-Status: SUCCESS
http://dpdk.org/patch/128849

_Testing PASS_

Submitter: Brian Dooley <brian.dooley at intel.com>
Date: Tuesday, June 20 2023 10:56:17 
DPDK git baseline: Repo:dpdk-next-crypto
  Branch: master
  CommitID:a0b08975521e07990bc60c33cec43168e7247296

128849 --> testing pass

Test environment and result as below:

+------------------+----------+
|   Environment    | abi_test |
+==================+==========+
| openSUSE Leap 15 | PASS     |
+------------------+----------+
| Debian Buster    | PASS     |
+------------------+----------+
| RHEL 7           | PASS     |
+------------------+----------+


openSUSE Leap 15
	Kernel: 4.18.0-240.10.1.el8_3.x86_64
	Compiler: gcc 7.5.0

Debian Buster
	Kernel: 5.4.0-122-generic
	Compiler: gcc 8.3.0-6

RHEL 7
	Kernel: 4.18.0-240.10.1.el8_3.x86_64
	Compiler: gcc 4.8.5 20150623 (Red Hat 4.8.5-44)

To view detailed results, visit:
https://lab.dpdk.org/results/dashboard/patchsets/26747/

UNH-IOL DPDK Community Lab

To manage your email subscriptions, visit: 
https://lab.dpdk.org/results/dashboard/preferences/subscriptions/


More information about the test-report mailing list