|SUCCESS| pw128859-128867 [PATCH] [v4,9/9] crypto/mlx5: enable AES-G

dpdklab at iol.unh.edu dpdklab at iol.unh.edu
Tue Jun 20 18:11:12 CEST 2023


Test-Label: iol-aarch-unit-testing
Test-Status: SUCCESS
http://dpdk.org/patch/128867

_Testing PASS_

Submitter: Suanming Mou <suanmingm at nvidia.com>
Date: Tuesday, June 20 2023 14:11:15 
DPDK git baseline: Repo:dpdk
  Branch: master
  CommitID:4645ed709d36bab64fbf2b8cff12054d39398af9

128859-128867 --> testing pass

Test environment and result as below:

+-----------------------------+---------------------------+------------------------------+----------------+--------------+
|         Environment         | cryptodev_sw_zuc_autotest | cryptodev_sw_snow3g_autotest | dpdk_unit_test | lpm_autotest |
+=============================+===========================+==============================+================+==============+
| Debian 11                   | PASS                      | PASS                         | SKIPPED        | SKIPPED      |
+-----------------------------+---------------------------+------------------------------+----------------+--------------+
| (32-bit) ARM Ubuntu 20.04.4 | SKIPPED                   | SKIPPED                      | PASS           | SKIPPED      |
+-----------------------------+---------------------------+------------------------------+----------------+--------------+
| Ubuntu 20.04 ARM SVE        | SKIPPED                   | SKIPPED                      | SKIPPED        | PASS         |
+-----------------------------+---------------------------+------------------------------+----------------+--------------+


Debian 11
	Kernel: Container Host Kernel
	Compiler: gcc 10.2.1

(32-bit) ARM Ubuntu 20.04.4
	Kernel: 5.4.0-148-generic aarch64
	Compiler: gcc 9.4

Ubuntu 20.04 ARM SVE
	Kernel: 5.4.0-80-generic
	Compiler: gcc 10.3.0 (Ubuntu 10.3.0-1ubuntu1~20.04)

To view detailed results, visit:
https://lab.dpdk.org/results/dashboard/patchsets/26752/

UNH-IOL DPDK Community Lab

To manage your email subscriptions, visit: 
https://lab.dpdk.org/results/dashboard/preferences/subscriptions/


More information about the test-report mailing list