|SUCCESS| pw128875 [PATCH] member: fix PRNG seed reset in NitroSketc

dpdklab at iol.unh.edu dpdklab at iol.unh.edu
Wed Jun 21 00:10:18 CEST 2023


Test-Label: iol-aarch-unit-testing
Test-Status: SUCCESS
http://dpdk.org/patch/128875

_Testing PASS_

Submitter: Dmitry Kozlyuk <dmitry.kozliuk at gmail.com>
Date: Tuesday, June 20 2023 21:17:20 
DPDK git baseline: Repo:dpdk
  Branch: master
  CommitID:4645ed709d36bab64fbf2b8cff12054d39398af9

128875 --> testing pass

Test environment and result as below:

+-----------------------------+------------------------------+---------------------------+--------------+----------------+
|         Environment         | cryptodev_sw_snow3g_autotest | cryptodev_sw_zuc_autotest | lpm_autotest | dpdk_unit_test |
+=============================+==============================+===========================+==============+================+
| Debian 11                   | PASS                         | PASS                      | SKIPPED      | SKIPPED        |
+-----------------------------+------------------------------+---------------------------+--------------+----------------+
| Ubuntu 20.04 ARM SVE        | SKIPPED                      | SKIPPED                   | PASS         | SKIPPED        |
+-----------------------------+------------------------------+---------------------------+--------------+----------------+
| (32-bit) ARM Ubuntu 20.04.4 | SKIPPED                      | SKIPPED                   | SKIPPED      | PASS           |
+-----------------------------+------------------------------+---------------------------+--------------+----------------+


Debian 11
	Kernel: Container Host Kernel
	Compiler: gcc 10.2.1

Ubuntu 20.04 ARM SVE
	Kernel: 5.4.0-80-generic
	Compiler: gcc 10.3.0 (Ubuntu 10.3.0-1ubuntu1~20.04)

(32-bit) ARM Ubuntu 20.04.4
	Kernel: 5.4.0-148-generic aarch64
	Compiler: gcc 9.4

To view detailed results, visit:
https://lab.dpdk.org/results/dashboard/patchsets/26756/

UNH-IOL DPDK Community Lab

To manage your email subscriptions, visit: 
https://lab.dpdk.org/results/dashboard/preferences/subscriptions/


More information about the test-report mailing list