|SUCCESS| pw128876 [PATCH] net/iavf: fix SCTP tunnel packet forwardi
dpdklab at iol.unh.edu
dpdklab at iol.unh.edu
Wed Jun 21 04:29:00 CEST 2023
Test-Label: iol-abi-testing
Test-Status: SUCCESS
http://dpdk.org/patch/128876
_Testing PASS_
Submitter: Wenzhuo Lu <wenzhuo.lu at intel.com>
Date: Wednesday, June 21 2023 01:15:21
DPDK git baseline: Repo:dpdk
Branch: master
CommitID:4645ed709d36bab64fbf2b8cff12054d39398af9
128876 --> testing pass
Test environment and result as below:
+------------------+----------+
| Environment | abi_test |
+==================+==========+
| Fedora 37 | PASS |
+------------------+----------+
| Debian Bullseye | PASS |
+------------------+----------+
| openSUSE Leap 15 | PASS |
+------------------+----------+
Fedora 37
Kernel: Depends on container host system
Compiler: gcc 12.3.1
Debian Bullseye
Kernel: 5.4.0-122-generic
Compiler: gcc 10.2.1-6
openSUSE Leap 15
Kernel: 4.18.0-240.10.1.el8_3.x86_64
Compiler: gcc 7.5.0
To view detailed results, visit:
https://lab.dpdk.org/results/dashboard/patchsets/26757/
UNH-IOL DPDK Community Lab
To manage your email subscriptions, visit:
https://lab.dpdk.org/results/dashboard/preferences/subscriptions/
More information about the test-report
mailing list