|SUCCESS| pw128884-128885 [PATCH] [v11,2/2] gro : add support for IP

dpdklab at iol.unh.edu dpdklab at iol.unh.edu
Wed Jun 21 12:34:27 CEST 2023


Test-Label: iol-abi-testing
Test-Status: SUCCESS
http://dpdk.org/patch/128885

_Testing PASS_

Submitter: kumaraparameshwaran rathinavel <kumaraparamesh92 at gmail.com>
Date: Wednesday, June 21 2023 08:38:36 
DPDK git baseline: Repo:dpdk
  Branch: master
  CommitID:4645ed709d36bab64fbf2b8cff12054d39398af9

128884-128885 --> testing pass

Test environment and result as below:

+-----------------+----------+
|   Environment   | abi_test |
+=================+==========+
| Ubuntu 22.04    | PASS     |
+-----------------+----------+
| CentOS Stream 8 | PASS     |
+-----------------+----------+
| RHEL 7          | PASS     |
+-----------------+----------+


Ubuntu 22.04
	Kernel: 4.18.0-240.10.1.el8_3.x86_64
	Compiler: gcc 11.3.0

CentOS Stream 8
	Kernel: 4.18.0-240.10.1.el8_3.x86_64
	Compiler: gcc 8.4.1 20200928

RHEL 7
	Kernel: 4.18.0-240.10.1.el8_3.x86_64
	Compiler: gcc 4.8.5 20150623 (Red Hat 4.8.5-44)

To view detailed results, visit:
https://lab.dpdk.org/results/dashboard/patchsets/26764/

UNH-IOL DPDK Community Lab

To manage your email subscriptions, visit: 
https://lab.dpdk.org/results/dashboard/preferences/subscriptions/


More information about the test-report mailing list