|SUCCESS| pw128892 [PATCH] [v4] ethdev: advertise flow restore in mb
dpdklab at iol.unh.edu
dpdklab at iol.unh.edu
Wed Jun 21 19:14:21 CEST 2023
Test-Label: iol-abi-testing
Test-Status: SUCCESS
http://dpdk.org/patch/128892
_Testing PASS_
Submitter: David Marchand <david.marchand at redhat.com>
Date: Wednesday, June 21 2023 14:43:27
DPDK git baseline: Repo:dpdk
Branch: master
CommitID:4645ed709d36bab64fbf2b8cff12054d39398af9
128892 --> testing pass
Test environment and result as below:
+------------------+----------+
| Environment | abi_test |
+==================+==========+
| RHEL 7 | PASS |
+------------------+----------+
| CentOS Stream 9 | PASS |
+------------------+----------+
| openSUSE Leap 15 | PASS |
+------------------+----------+
| Ubuntu 22.04 | PASS |
+------------------+----------+
| Debian Bullseye | PASS |
+------------------+----------+
RHEL 7
Kernel: 4.18.0-240.10.1.el8_3.x86_64
Compiler: gcc 4.8.5 20150623 (Red Hat 4.8.5-44)
CentOS Stream 9
Kernel: 4.18.0-240.10.1.el8_3.x86_64
Compiler: gcc 11.3.1 20220421
openSUSE Leap 15
Kernel: 4.18.0-240.10.1.el8_3.x86_64
Compiler: gcc 7.5.0
Ubuntu 22.04
Kernel: 4.18.0-240.10.1.el8_3.x86_64
Compiler: gcc 11.3.0
Debian Bullseye
Kernel: 5.4.0-122-generic
Compiler: gcc 10.2.1-6
To view detailed results, visit:
https://lab.dpdk.org/results/dashboard/patchsets/26771/
UNH-IOL DPDK Community Lab
To manage your email subscriptions, visit:
https://lab.dpdk.org/results/dashboard/preferences/subscriptions/
More information about the test-report
mailing list