|SUCCESS| [GIT MASTER] 841e87df43e4c3c60ab1b6361130b628afd156ec
dpdklab at iol.unh.edu
dpdklab at iol.unh.edu
Thu Jun 22 03:23:48 CEST 2023
_Testing PASS_
Branch: dpdk
841e87df43e4c3c60ab1b6361130b628afd156ec --> testing pass
Test environment and result as below:
+-----------------+----------+
| Environment | abi_test |
+=================+==========+
| Fedora 38 | PASS |
+-----------------+----------+
| RHEL 7 | PASS |
+-----------------+----------+
| CentOS Stream 9 | PASS |
+-----------------+----------+
Fedora 38
Kernel: Depends on container host
Compiler: gcc 13.1.1
RHEL 7
Kernel: 4.18.0-240.10.1.el8_3.x86_64
Compiler: gcc 4.8.5 20150623 (Red Hat 4.8.5-44)
CentOS Stream 9
Kernel: 4.18.0-240.10.1.el8_3.x86_64
Compiler: gcc 11.3.1 20220421
To view detailed results, visit:
https://lab.dpdk.org/results/dashboard/tarballs/25125/
UNH-IOL DPDK Community Lab
To manage your email subscriptions, visit:
https://lab.dpdk.org/results/dashboard/preferences/subscriptions/
More information about the test-report
mailing list