|SUCCESS| pw128903 [PATCH] [v3] common/sfc_efx/base: set return code

dpdklab at iol.unh.edu dpdklab at iol.unh.edu
Thu Jun 22 11:45:49 CEST 2023


Test-Label: iol-abi-testing
Test-Status: SUCCESS
http://dpdk.org/patch/128903

_Testing PASS_

Submitter: Artemii Morozov <Artemii.Morozov at arknetworks.am>
Date: Thursday, June 22 2023 09:13:01 
DPDK git baseline: Repo:dpdk
  Branch: master
  CommitID:841e87df43e4c3c60ab1b6361130b628afd156ec

128903 --> testing pass

Test environment and result as below:

+------------------+----------+
|   Environment    | abi_test |
+==================+==========+
| CentOS Stream 8  | PASS     |
+------------------+----------+
| openSUSE Leap 15 | PASS     |
+------------------+----------+
| Debian Bullseye  | PASS     |
+------------------+----------+


CentOS Stream 8
	Kernel: 4.18.0-240.10.1.el8_3.x86_64
	Compiler: gcc 8.4.1 20200928

openSUSE Leap 15
	Kernel: 4.18.0-240.10.1.el8_3.x86_64
	Compiler: gcc 7.5.0

Debian Bullseye
	Kernel: 5.4.0-122-generic
	Compiler: gcc 10.2.1-6

To view detailed results, visit:
https://lab.dpdk.org/results/dashboard/patchsets/26774/

UNH-IOL DPDK Community Lab

To manage your email subscriptions, visit: 
https://lab.dpdk.org/results/dashboard/preferences/subscriptions/


More information about the test-report mailing list