|SUCCESS| [GIT MASTER] 7556a1a355fb377279508735f7afc1faf1d00158
dpdklab at iol.unh.edu
dpdklab at iol.unh.edu
Thu Jun 22 16:25:42 CEST 2023
_Testing PASS_
Branch: dpdk
7556a1a355fb377279508735f7afc1faf1d00158 --> testing pass
Test environment and result as below:
+-----------------------------+---------------------------+------------------------------+----------------+
| Environment | cryptodev_sw_zuc_autotest | cryptodev_sw_snow3g_autotest | dpdk_unit_test |
+=============================+===========================+==============================+================+
| Debian 11 | PASS | PASS | SKIPPED |
+-----------------------------+---------------------------+------------------------------+----------------+
| (32-bit) ARM Ubuntu 20.04.4 | SKIPPED | SKIPPED | PASS |
+-----------------------------+---------------------------+------------------------------+----------------+
Debian 11
Kernel: Container Host Kernel
Compiler: gcc 10.2.1
(32-bit) ARM Ubuntu 20.04.4
Kernel: 5.4.0-148-generic aarch64
Compiler: gcc 9.4
To view detailed results, visit:
https://lab.dpdk.org/results/dashboard/tarballs/25070/
UNH-IOL DPDK Community Lab
To manage your email subscriptions, visit:
https://lab.dpdk.org/results/dashboard/preferences/subscriptions/
More information about the test-report
mailing list