|SUCCESS| pw128917-128920 [PATCH] [v4,4/4] net/sfc: add configurable

dpdklab at iol.unh.edu dpdklab at iol.unh.edu
Thu Jun 22 17:09:51 CEST 2023


Test-Label: iol-unit-testing
Test-Status: SUCCESS
http://dpdk.org/patch/128920

_Testing PASS_

Submitter: Denis Pryazhennikov <denis.pryazhennikov at arknetworks.am>
Date: Thursday, June 22 2023 11:47:55 
DPDK git baseline: Repo:dpdk-next-net
  Branch: master
  CommitID:83d0c8343764a15d619a566fa8d5bf2a6db017bb

128917-128920 --> testing pass

Test environment and result as below:

+-----------------------+----------------+
|      Environment      | dpdk_unit_test |
+=======================+================+
| Ubuntu 20.04 (ARM)    | PASS           |
+-----------------------+----------------+
| Fedora 37 (ARM)       | PASS           |
+-----------------------+----------------+
| CentOS Stream 8       | PASS           |
+-----------------------+----------------+
| Debian Bullseye       | PASS           |
+-----------------------+----------------+
| Fedora 38 (ARM Clang) | PASS           |
+-----------------------+----------------+
| CentOS Stream 9       | PASS           |
+-----------------------+----------------+
| Debian Buster         | PASS           |
+-----------------------+----------------+
| Fedora 38 (ARM)       | PASS           |
+-----------------------+----------------+
| RHEL8                 | PASS           |
+-----------------------+----------------+
| Fedora 37             | PASS           |
+-----------------------+----------------+
| Fedora 38             | PASS           |
+-----------------------+----------------+
| RHEL 7                | PASS           |
+-----------------------+----------------+
| openSUSE Leap 15      | PASS           |
+-----------------------+----------------+
| Ubuntu 20.04          | PASS           |
+-----------------------+----------------+
| Ubuntu 22.04          | PASS           |
+-----------------------+----------------+


Ubuntu 20.04 (ARM)
	Kernel: Container Host Kernel
	Compiler: gcc 9.4.0

Fedora 37 (ARM)
	Kernel: Depends on container host
	Compiler: gcc 12.3.1

CentOS Stream 8
	Kernel: 4.18.0-240.10.1.el8_3.x86_64
	Compiler: gcc 8.4.1 20200928

Debian Bullseye
	Kernel: 5.4.0-122-generic
	Compiler: gcc 10.2.1-6

Fedora 38 (ARM Clang)
	Kernel: Depends on container host
	Compiler: clang 16.0.3

CentOS Stream 9
	Kernel: 4.18.0-240.10.1.el8_3.x86_64
	Compiler: gcc 11.3.1 20220421

Debian Buster
	Kernel: 5.4.0-122-generic
	Compiler: gcc 8.3.0-6

Fedora 38 (ARM)
	Kernel: Depends on container host
	Compiler: gcc 13.1.1

RHEL8
	Kernel: 4.18.0-240.10.1.el8_3.x86_64
	Compiler: gcc 8.3.1 20191121 (Red Hat 8.3.1-5)

Fedora 37
	Kernel: Depends on container host system
	Compiler: gcc 12.3.1

Fedora 38
	Kernel: Depends on container host
	Compiler: gcc 13.1.1

RHEL 7
	Kernel: 4.18.0-240.10.1.el8_3.x86_64
	Compiler: gcc 4.8.5 20150623 (Red Hat 4.8.5-44)

openSUSE Leap 15
	Kernel: 4.18.0-240.10.1.el8_3.x86_64
	Compiler: gcc 7.5.0

Ubuntu 20.04
	Kernel: 4.18.0-240.10.1.el8_3.x86_64
	Compiler: gcc 9.3.0-17ubuntu1~20.04

Ubuntu 22.04
	Kernel: 4.18.0-240.10.1.el8_3.x86_64
	Compiler: gcc 11.3.0

To view detailed results, visit:
https://lab.dpdk.org/results/dashboard/patchsets/26779/

UNH-IOL DPDK Community Lab

To manage your email subscriptions, visit: 
https://lab.dpdk.org/results/dashboard/preferences/subscriptions/


More information about the test-report mailing list