|SUCCESS| pw128907-128910 [PATCH] [v6,4/4] net/sfc: support VLAN str

dpdklab at iol.unh.edu dpdklab at iol.unh.edu
Thu Jun 22 17:55:17 CEST 2023


Test-Label: iol-abi-testing
Test-Status: SUCCESS
http://dpdk.org/patch/128910

_Testing PASS_

Submitter: Artemii Morozov <Artemii.Morozov at arknetworks.am>
Date: Thursday, June 22 2023 11:31:04 
DPDK git baseline: Repo:dpdk
  Branch: master
  CommitID:841e87df43e4c3c60ab1b6361130b628afd156ec

128907-128910 --> testing pass

Test environment and result as below:

+-----------------+----------+
|   Environment   | abi_test |
+=================+==========+
| Debian Bullseye | PASS     |
+-----------------+----------+
| CentOS Stream 9 | PASS     |
+-----------------+----------+
| CentOS Stream 8 | PASS     |
+-----------------+----------+


Debian Bullseye
	Kernel: 5.4.0-122-generic
	Compiler: gcc 10.2.1-6

CentOS Stream 9
	Kernel: 4.18.0-240.10.1.el8_3.x86_64
	Compiler: gcc 11.3.1 20220421

CentOS Stream 8
	Kernel: 4.18.0-240.10.1.el8_3.x86_64
	Compiler: gcc 8.4.1 20200928

To view detailed results, visit:
https://lab.dpdk.org/results/dashboard/patchsets/26777/

UNH-IOL DPDK Community Lab

To manage your email subscriptions, visit: 
https://lab.dpdk.org/results/dashboard/preferences/subscriptions/


More information about the test-report mailing list