|SUCCESS| pw128924-128930 [PATCH] [7/7] build: make reorder library
dpdklab at iol.unh.edu
dpdklab at iol.unh.edu
Thu Jun 22 22:26:54 CEST 2023
Test-Label: iol-aarch-unit-testing
Test-Status: SUCCESS
http://dpdk.org/patch/128930
_Testing PASS_
Submitter: Bruce Richardson <bruce.richardson at intel.com>
Date: Thursday, June 22 2023 13:48:40
DPDK git baseline: Repo:dpdk
Branch: master
CommitID:841e87df43e4c3c60ab1b6361130b628afd156ec
128924-128930 --> testing pass
Test environment and result as below:
+-----------------------------+----------------+--------------+------------------------------+
| Environment | dpdk_unit_test | lpm_autotest | cryptodev_sw_snow3g_autotest |
+=============================+================+==============+==============================+
| (32-bit) ARM Ubuntu 20.04.4 | PASS | SKIPPED | SKIPPED |
+-----------------------------+----------------+--------------+------------------------------+
| Ubuntu 20.04 ARM SVE | SKIPPED | PASS | SKIPPED |
+-----------------------------+----------------+--------------+------------------------------+
| Debian 11 | SKIPPED | SKIPPED | PASS |
+-----------------------------+----------------+--------------+------------------------------+
(32-bit) ARM Ubuntu 20.04.4
Kernel: 5.4.0-148-generic aarch64
Compiler: gcc 9.4
Ubuntu 20.04 ARM SVE
Kernel: 5.4.0-80-generic
Compiler: gcc 10.3.0 (Ubuntu 10.3.0-1ubuntu1~20.04)
Debian 11
Kernel: Container Host Kernel
Compiler: gcc 10.2.1
To view detailed results, visit:
https://lab.dpdk.org/results/dashboard/patchsets/26782/
UNH-IOL DPDK Community Lab
To manage your email subscriptions, visit:
https://lab.dpdk.org/results/dashboard/preferences/subscriptions/
More information about the test-report
mailing list