|SUCCESS| pw128960 [PATCH] [v1] common/qat: detach QAT crypto compre

dpdklab at iol.unh.edu dpdklab at iol.unh.edu
Fri Jun 23 17:08:06 CEST 2023


Test-Label: iol-abi-testing
Test-Status: SUCCESS
http://dpdk.org/patch/128960

_Testing PASS_

Submitter: Vikash Poddar <vikash.chandrax.poddar at intel.com>
Date: Friday, June 23 2023 13:48:21 
DPDK git baseline: Repo:dpdk
  Branch: master
  CommitID:870623ad9ed33f21102a5ddc18e15d726e65204d

128960 --> testing pass

Test environment and result as below:

+--------------+----------+
| Environment  | abi_test |
+==============+==========+
| Ubuntu 22.04 | PASS     |
+--------------+----------+
| RHEL 7       | PASS     |
+--------------+----------+
| Fedora 38    | PASS     |
+--------------+----------+


Ubuntu 22.04
	Kernel: 4.18.0-240.10.1.el8_3.x86_64
	Compiler: gcc 11.3.0

RHEL 7
	Kernel: 4.18.0-240.10.1.el8_3.x86_64
	Compiler: gcc 4.8.5 20150623 (Red Hat 4.8.5-44)

Fedora 38
	Kernel: Depends on container host
	Compiler: gcc 13.1.1

To view detailed results, visit:
https://lab.dpdk.org/results/dashboard/patchsets/26789/

UNH-IOL DPDK Community Lab

To manage your email subscriptions, visit: 
https://lab.dpdk.org/results/dashboard/preferences/subscriptions/


More information about the test-report mailing list