|SUCCESS| [GIT MASTER] 132173c4169322487a9041a450b9d3860de0a434

dpdklab at iol.unh.edu dpdklab at iol.unh.edu
Fri Jun 23 23:02:15 CEST 2023


_Testing PASS_

Branch: dpdk

132173c4169322487a9041a450b9d3860de0a434 --> testing pass

Test environment and result as below:

+-----------------------+----------------+
|      Environment      | dpdk_unit_test |
+=======================+================+
| CentOS Stream 9 (ARM) | PASS           |
+-----------------------+----------------+
| Fedora 38 (ARM Clang) | PASS           |
+-----------------------+----------------+
| Fedora 37             | PASS           |
+-----------------------+----------------+
| Fedora 38             | PASS           |
+-----------------------+----------------+
| Debian Bullseye       | PASS           |
+-----------------------+----------------+
| CentOS Stream 9       | PASS           |
+-----------------------+----------------+
| RHEL8                 | PASS           |
+-----------------------+----------------+
| Ubuntu 22.04          | PASS           |
+-----------------------+----------------+
| Ubuntu 20.04          | PASS           |
+-----------------------+----------------+


CentOS Stream 9 (ARM)
	Kernel: Container Host Kernel
	Compiler: gcc 11.3.1

Fedora 38 (ARM Clang)
	Kernel: Depends on container host
	Compiler: clang 16.0.3

Fedora 37
	Kernel: Depends on container host system
	Compiler: gcc 12.3.1

Fedora 38
	Kernel: Depends on container host
	Compiler: clang 16.0.3

Debian Bullseye
	Kernel: 5.4.0-122-generic
	Compiler: gcc 10.2.1-6

CentOS Stream 9
	Kernel: 4.18.0-240.10.1.el8_3.x86_64
	Compiler: gcc 11.3.1 20220421

RHEL8
	Kernel: 4.18.0-240.10.1.el8_3.x86_64
	Compiler: gcc 8.3.1 20191121 (Red Hat 8.3.1-5)

Ubuntu 22.04
	Kernel: 4.18.0-240.10.1.el8_3.x86_64
	Compiler: gcc 11.3.0

Ubuntu 20.04
	Kernel: 4.18.0-240.10.1.el8_3.x86_64
	Compiler: gcc 9.3.0-17ubuntu1~20.04

To view detailed results, visit:
https://lab.dpdk.org/results/dashboard/tarballs/25151/

UNH-IOL DPDK Community Lab

To manage your email subscriptions, visit: 
https://lab.dpdk.org/results/dashboard/preferences/subscriptions/


More information about the test-report mailing list