|SUCCESS| [GIT MASTER] 132173c4169322487a9041a450b9d3860de0a434
dpdklab at iol.unh.edu
dpdklab at iol.unh.edu
Sat Jun 24 03:20:25 CEST 2023
_Testing PASS_
Branch: dpdk
132173c4169322487a9041a450b9d3860de0a434 --> testing pass
Test environment and result as below:
+-------------+----------+
| Environment | abi_test |
+=============+==========+
| Fedora 38 | PASS |
+-------------+----------+
| RHEL8 | PASS |
+-------------+----------+
| RHEL 7 | PASS |
+-------------+----------+
Fedora 38
Kernel: Depends on container host
Compiler: gcc 13.1.1
RHEL8
Kernel: 4.18.0-240.10.1.el8_3.x86_64
Compiler: gcc 8.3.1 20191121 (Red Hat 8.3.1-5)
RHEL 7
Kernel: 4.18.0-240.10.1.el8_3.x86_64
Compiler: gcc 4.8.5 20150623 (Red Hat 4.8.5-44)
To view detailed results, visit:
https://lab.dpdk.org/results/dashboard/tarballs/25152/
UNH-IOL DPDK Community Lab
To manage your email subscriptions, visit:
https://lab.dpdk.org/results/dashboard/preferences/subscriptions/
More information about the test-report
mailing list