|SUCCESS| [GIT MASTER] 6c948396d7ebc7c0ffdac7df99f1ebf7b4ecb55f

dpdklab at iol.unh.edu dpdklab at iol.unh.edu
Mon Jun 26 03:18:01 CEST 2023


_Testing PASS_

Branch: dpdk

6c948396d7ebc7c0ffdac7df99f1ebf7b4ecb55f --> testing pass

Test environment and result as below:

+-----------------+----------+
|   Environment   | abi_test |
+=================+==========+
| RHEL 7          | PASS     |
+-----------------+----------+
| Debian Bullseye | PASS     |
+-----------------+----------+
| CentOS Stream 9 | PASS     |
+-----------------+----------+


RHEL 7
	Kernel: 4.18.0-240.10.1.el8_3.x86_64
	Compiler: gcc 4.8.5 20150623 (Red Hat 4.8.5-44)

Debian Bullseye
	Kernel: 5.4.0-122-generic
	Compiler: gcc 10.2.1-6

CentOS Stream 9
	Kernel: 4.18.0-240.10.1.el8_3.x86_64
	Compiler: gcc 11.3.1 20220421

To view detailed results, visit:
https://lab.dpdk.org/results/dashboard/tarballs/25160/

UNH-IOL DPDK Community Lab

To manage your email subscriptions, visit: 
https://lab.dpdk.org/results/dashboard/preferences/subscriptions/


More information about the test-report mailing list