|SUCCESS| pw128982 [PATCH] net/idpf: refine dev_link_update function

dpdklab at iol.unh.edu dpdklab at iol.unh.edu
Mon Jun 26 05:47:31 CEST 2023


Test-Label: iol-abi-testing
Test-Status: SUCCESS
http://dpdk.org/patch/128982

_Testing PASS_

Submitter: Mingxia Liu <mingxia.liu at intel.com>
Date: Monday, June 26 2023 11:14:54 
DPDK git baseline: Repo:dpdk
  Branch: master
  CommitID:6c948396d7ebc7c0ffdac7df99f1ebf7b4ecb55f

128982 --> testing pass

Test environment and result as below:

+-----------------+----------+
|   Environment   | abi_test |
+=================+==========+
| RHEL 7          | PASS     |
+-----------------+----------+
| Debian Bullseye | PASS     |
+-----------------+----------+
| Ubuntu 22.04    | PASS     |
+-----------------+----------+
| Debian Buster   | PASS     |
+-----------------+----------+


RHEL 7
	Kernel: 4.18.0-240.10.1.el8_3.x86_64
	Compiler: gcc 4.8.5 20150623 (Red Hat 4.8.5-44)

Debian Bullseye
	Kernel: 5.4.0-122-generic
	Compiler: gcc 10.2.1-6

Ubuntu 22.04
	Kernel: 4.18.0-240.10.1.el8_3.x86_64
	Compiler: gcc 11.3.0

Debian Buster
	Kernel: 5.4.0-122-generic
	Compiler: gcc 8.3.0-6

To view detailed results, visit:
https://lab.dpdk.org/results/dashboard/patchsets/26799/

UNH-IOL DPDK Community Lab

To manage your email subscriptions, visit: 
https://lab.dpdk.org/results/dashboard/preferences/subscriptions/


More information about the test-report mailing list