|SUCCESS| pw128997 [PATCH] [v4] app/testpmd: add trace dump command

dpdklab at iol.unh.edu dpdklab at iol.unh.edu
Mon Jun 26 16:20:19 CEST 2023


Test-Label: iol-abi-testing
Test-Status: SUCCESS
http://dpdk.org/patch/128997

_Testing PASS_

Submitter: Viacheslav Ovsiienko <viacheslavo at nvidia.com>
Date: Monday, June 26 2023 11:57:49 
DPDK git baseline: Repo:dpdk
  Branch: master
  CommitID:6c948396d7ebc7c0ffdac7df99f1ebf7b4ecb55f

128997 --> testing pass

Test environment and result as below:

+-----------------+----------+
|   Environment   | abi_test |
+=================+==========+
| CentOS Stream 9 | PASS     |
+-----------------+----------+
| CentOS Stream 8 | PASS     |
+-----------------+----------+
| Fedora 37       | PASS     |
+-----------------+----------+


CentOS Stream 9
	Kernel: 4.18.0-240.10.1.el8_3.x86_64
	Compiler: gcc 11.3.1 20220421

CentOS Stream 8
	Kernel: 4.18.0-240.10.1.el8_3.x86_64
	Compiler: gcc 8.4.1 20200928

Fedora 37
	Kernel: Depends on container host system
	Compiler: gcc 12.3.1

To view detailed results, visit:
https://lab.dpdk.org/results/dashboard/patchsets/26812/

UNH-IOL DPDK Community Lab

To manage your email subscriptions, visit: 
https://lab.dpdk.org/results/dashboard/preferences/subscriptions/


More information about the test-report mailing list