|SUCCESS| pw128998 [PATCH] config/arm: add HiSilicon hip10
dpdklab at iol.unh.edu
dpdklab at iol.unh.edu
Mon Jun 26 18:54:09 CEST 2023
Test-Label: iol-aarch-unit-testing
Test-Status: SUCCESS
http://dpdk.org/patch/128998
_Testing PASS_
Submitter: Dongdong Liu <liudongdong3 at huawei.com>
Date: Monday, June 26 2023 12:43:04
DPDK git baseline: Repo:dpdk
Branch: master
CommitID:6c948396d7ebc7c0ffdac7df99f1ebf7b4ecb55f
128998 --> testing pass
Test environment and result as below:
+-----------------------------+---------------------------+----------------+------------------------------+--------------+
| Environment | cryptodev_sw_zuc_autotest | dpdk_unit_test | cryptodev_sw_snow3g_autotest | lpm_autotest |
+=============================+===========================+================+==============================+==============+
| Debian 11 | PASS | SKIPPED | PASS | SKIPPED |
+-----------------------------+---------------------------+----------------+------------------------------+--------------+
| (32-bit) ARM Ubuntu 20.04.4 | SKIPPED | PASS | SKIPPED | SKIPPED |
+-----------------------------+---------------------------+----------------+------------------------------+--------------+
| Ubuntu 20.04 ARM SVE | SKIPPED | SKIPPED | SKIPPED | PASS |
+-----------------------------+---------------------------+----------------+------------------------------+--------------+
Debian 11
Kernel: Container Host Kernel
Compiler: gcc 10.2.1
(32-bit) ARM Ubuntu 20.04.4
Kernel: 5.4.0-148-generic aarch64
Compiler: gcc 9.4
Ubuntu 20.04 ARM SVE
Kernel: 5.4.0-80-generic
Compiler: gcc 10.3.0 (Ubuntu 10.3.0-1ubuntu1~20.04)
To view detailed results, visit:
https://lab.dpdk.org/results/dashboard/patchsets/26813/
UNH-IOL DPDK Community Lab
To manage your email subscriptions, visit:
https://lab.dpdk.org/results/dashboard/preferences/subscriptions/
More information about the test-report
mailing list