|SUCCESS| pw128992 [PATCH] devtools: fix mailmap check for parenthes
dpdklab at iol.unh.edu
dpdklab at iol.unh.edu
Mon Jun 26 20:50:56 CEST 2023
Test-Label: iol-abi-testing
Test-Status: SUCCESS
http://dpdk.org/patch/128992
_Testing PASS_
Submitter: Thomas Monjalon <thomas at monjalon.net>
Date: Monday, June 26 2023 10:24:03
DPDK git baseline: Repo:dpdk
Branch: master
CommitID:62082124a23e004a771167b191b2102ca9cb3350
128992 --> testing pass
Test environment and result as below:
+-----------------+----------+
| Environment | abi_test |
+=================+==========+
| CentOS Stream 8 | PASS |
+-----------------+----------+
| RHEL 7 | PASS |
+-----------------+----------+
| Debian Buster | PASS |
+-----------------+----------+
| CentOS Stream 9 | PASS |
+-----------------+----------+
| Debian Bullseye | PASS |
+-----------------+----------+
CentOS Stream 8
Kernel: 4.18.0-240.10.1.el8_3.x86_64
Compiler: gcc 8.4.1 20200928
RHEL 7
Kernel: 4.18.0-240.10.1.el8_3.x86_64
Compiler: gcc 4.8.5 20150623 (Red Hat 4.8.5-44)
Debian Buster
Kernel: 5.4.0-122-generic
Compiler: gcc 8.3.0-6
CentOS Stream 9
Kernel: 4.18.0-240.10.1.el8_3.x86_64
Compiler: gcc 11.3.1 20220421
Debian Bullseye
Kernel: 5.4.0-122-generic
Compiler: gcc 10.2.1-6
To view detailed results, visit:
https://lab.dpdk.org/results/dashboard/patchsets/26807/
UNH-IOL DPDK Community Lab
To manage your email subscriptions, visit:
https://lab.dpdk.org/results/dashboard/preferences/subscriptions/
More information about the test-report
mailing list