|SUCCESS| pw129004-129008 [PATCH] [v4,5/5] eal: add option to put ti

dpdklab at iol.unh.edu dpdklab at iol.unh.edu
Mon Jun 26 22:18:03 CEST 2023


Test-Label: iol-aarch-unit-testing
Test-Status: SUCCESS
http://dpdk.org/patch/129008

_Testing PASS_

Submitter: Stephen Hemminger <stephen at networkplumber.org>
Date: Monday, June 26 2023 18:42:16 
DPDK git baseline: Repo:dpdk
  Branch: master
  CommitID:62082124a23e004a771167b191b2102ca9cb3350

129004-129008 --> testing pass

Test environment and result as below:

+-----------------------------+---------------------------+----------------+------------------------------+--------------+
|         Environment         | cryptodev_sw_zuc_autotest | dpdk_unit_test | cryptodev_sw_snow3g_autotest | lpm_autotest |
+=============================+===========================+================+==============================+==============+
| Debian 11                   | PASS                      | SKIPPED        | PASS                         | SKIPPED      |
+-----------------------------+---------------------------+----------------+------------------------------+--------------+
| (32-bit) ARM Ubuntu 20.04.4 | SKIPPED                   | PASS           | SKIPPED                      | SKIPPED      |
+-----------------------------+---------------------------+----------------+------------------------------+--------------+
| Ubuntu 20.04 ARM SVE        | SKIPPED                   | SKIPPED        | SKIPPED                      | PASS         |
+-----------------------------+---------------------------+----------------+------------------------------+--------------+


Debian 11
	Kernel: Container Host Kernel
	Compiler: gcc 10.2.1

(32-bit) ARM Ubuntu 20.04.4
	Kernel: 5.4.0-148-generic aarch64
	Compiler: gcc 9.4

Ubuntu 20.04 ARM SVE
	Kernel: 5.4.0-80-generic
	Compiler: gcc 10.3.0 (Ubuntu 10.3.0-1ubuntu1~20.04)

To view detailed results, visit:
https://lab.dpdk.org/results/dashboard/patchsets/26816/

UNH-IOL DPDK Community Lab

To manage your email subscriptions, visit: 
https://lab.dpdk.org/results/dashboard/preferences/subscriptions/


More information about the test-report mailing list