|SUCCESS| pw128991 [PATCH] [v9] app/dma-perf: introduce dma-perf app
dpdklab at iol.unh.edu
dpdklab at iol.unh.edu
Mon Jun 26 22:35:11 CEST 2023
Test-Label: iol-abi-testing
Test-Status: SUCCESS
http://dpdk.org/patch/128991
_Testing PASS_
Submitter: Cheng Jiang <Cheng1.jiang at intel.com>
Date: Monday, June 26 2023 09:41:02
DPDK git baseline: Repo:dpdk
Branch: master
CommitID:62082124a23e004a771167b191b2102ca9cb3350
128991 --> testing pass
Test environment and result as below:
+-----------------+----------+
| Environment | abi_test |
+=================+==========+
| CentOS Stream 9 | PASS |
+-----------------+----------+
| Fedora 37 | PASS |
+-----------------+----------+
| RHEL 7 | PASS |
+-----------------+----------+
CentOS Stream 9
Kernel: 4.18.0-240.10.1.el8_3.x86_64
Compiler: gcc 11.3.1 20220421
Fedora 37
Kernel: Depends on container host system
Compiler: gcc 12.3.1
RHEL 7
Kernel: 4.18.0-240.10.1.el8_3.x86_64
Compiler: gcc 4.8.5 20150623 (Red Hat 4.8.5-44)
To view detailed results, visit:
https://lab.dpdk.org/results/dashboard/patchsets/26806/
UNH-IOL DPDK Community Lab
To manage your email subscriptions, visit:
https://lab.dpdk.org/results/dashboard/preferences/subscriptions/
More information about the test-report
mailing list