|SUCCESS| pw129009 [PATCH] doc: announce QAT support on aarch64

dpdklab at iol.unh.edu dpdklab at iol.unh.edu
Tue Jun 27 02:15:06 CEST 2023


Test-Label: iol-abi-testing
Test-Status: SUCCESS
http://dpdk.org/patch/129009

_Testing PASS_

Submitter: Dharmik Thakkar <dharmikjayesh.thakkar at arm.com>
Date: Monday, June 26 2023 22:37:59 
DPDK git baseline: Repo:dpdk
  Branch: master
  CommitID:62082124a23e004a771167b191b2102ca9cb3350

129009 --> testing pass

Test environment and result as below:

+-----------------+----------+
|   Environment   | abi_test |
+=================+==========+
| CentOS Stream 8 | PASS     |
+-----------------+----------+
| Debian Buster   | PASS     |
+-----------------+----------+
| Fedora 38       | PASS     |
+-----------------+----------+


CentOS Stream 8
	Kernel: 4.18.0-240.10.1.el8_3.x86_64
	Compiler: gcc 8.4.1 20200928

Debian Buster
	Kernel: 5.4.0-122-generic
	Compiler: gcc 8.3.0-6

Fedora 38
	Kernel: Depends on container host
	Compiler: clang 16.0.3

To view detailed results, visit:
https://lab.dpdk.org/results/dashboard/patchsets/26817/

UNH-IOL DPDK Community Lab

To manage your email subscriptions, visit: 
https://lab.dpdk.org/results/dashboard/preferences/subscriptions/


More information about the test-report mailing list