|SUCCESS| pw129022 [PATCH] [v1] event/dlb2: revise QE Weight Feature

dpdklab at iol.unh.edu dpdklab at iol.unh.edu
Tue Jun 27 16:21:12 CEST 2023


Test-Label: iol-abi-testing
Test-Status: SUCCESS
http://dpdk.org/patch/129022

_Testing PASS_

Submitter: Abdullah Sevincer <abdullah.sevincer at intel.com>
Date: Tuesday, June 27 2023 13:24:21 
DPDK git baseline: Repo:dpdk
  Branch: master
  CommitID:42f113c53cbbbc4585ad68b4d2a8aa9bddad23da

129022 --> testing pass

Test environment and result as below:

+-----------------+----------+
|   Environment   | abi_test |
+=================+==========+
| Debian Bullseye | PASS     |
+-----------------+----------+
| CentOS Stream 8 | PASS     |
+-----------------+----------+
| CentOS Stream 9 | PASS     |
+-----------------+----------+
| Fedora 38       | PASS     |
+-----------------+----------+


Debian Bullseye
	Kernel: 5.4.0-122-generic
	Compiler: gcc 10.2.1-6

CentOS Stream 8
	Kernel: 4.18.0-240.10.1.el8_3.x86_64
	Compiler: gcc 8.4.1 20200928

CentOS Stream 9
	Kernel: 4.18.0-240.10.1.el8_3.x86_64
	Compiler: gcc 11.3.1 20220421

Fedora 38
	Kernel: Depends on container host
	Compiler: clang 16.0.3

To view detailed results, visit:
https://lab.dpdk.org/results/dashboard/patchsets/26821/

UNH-IOL DPDK Community Lab

To manage your email subscriptions, visit: 
https://lab.dpdk.org/results/dashboard/preferences/subscriptions/


More information about the test-report mailing list