|SUCCESS| pw129029 [PATCH] doc: fix missing release note for I225 su
dpdklab at iol.unh.edu
dpdklab at iol.unh.edu
Wed Jun 28 06:55:21 CEST 2023
Test-Label: iol-aarch-unit-testing
Test-Status: SUCCESS
http://dpdk.org/patch/129029
_Testing PASS_
Submitter: Qiming Yang <qiming.yang at intel.com>
Date: Wednesday, June 28 2023 03:26:07
DPDK git baseline: Repo:dpdk
Branch: master
CommitID:93a4b3beba4ee611685148917981f846427cafb2
129029 --> testing pass
Test environment and result as below:
+-----------------------------+------------------------------+---------------------------+--------------+----------------+
| Environment | cryptodev_sw_snow3g_autotest | cryptodev_sw_zuc_autotest | lpm_autotest | dpdk_unit_test |
+=============================+==============================+===========================+==============+================+
| Debian 11 | PASS | PASS | SKIPPED | SKIPPED |
+-----------------------------+------------------------------+---------------------------+--------------+----------------+
| Ubuntu 20.04 ARM SVE | SKIPPED | SKIPPED | PASS | SKIPPED |
+-----------------------------+------------------------------+---------------------------+--------------+----------------+
| (32-bit) ARM Ubuntu 20.04.4 | SKIPPED | SKIPPED | SKIPPED | PASS |
+-----------------------------+------------------------------+---------------------------+--------------+----------------+
Debian 11
Kernel: Container Host Kernel
Compiler: gcc 10.2.1
Ubuntu 20.04 ARM SVE
Kernel: 5.4.0-80-generic
Compiler: gcc 10.3.0 (Ubuntu 10.3.0-1ubuntu1~20.04)
(32-bit) ARM Ubuntu 20.04.4
Kernel: 5.4.0-148-generic aarch64
Compiler: gcc 9.4
To view detailed results, visit:
https://lab.dpdk.org/results/dashboard/patchsets/26828/
UNH-IOL DPDK Community Lab
To manage your email subscriptions, visit:
https://lab.dpdk.org/results/dashboard/preferences/subscriptions/
More information about the test-report
mailing list