|SUCCESS| pw129070-129076 [PATCH] [7/7] common/cnxk: use unique name
dpdklab at iol.unh.edu
dpdklab at iol.unh.edu
Wed Jun 28 19:54:58 CEST 2023
Test-Label: iol-abi-testing
Test-Status: SUCCESS
http://dpdk.org/patch/129076
_Testing PASS_
Submitter: Amit Prakash Shukla <amitprakashs at marvell.com>
Date: Wednesday, June 28 2023 17:18:34
DPDK git baseline: Repo:dpdk
Branch: master
CommitID:93a4b3beba4ee611685148917981f846427cafb2
129070-129076 --> testing pass
Test environment and result as below:
+--------------+----------+
| Environment | abi_test |
+==============+==========+
| Ubuntu 22.04 | PASS |
+--------------+----------+
| Fedora 38 | PASS |
+--------------+----------+
| RHEL8 | PASS |
+--------------+----------+
Ubuntu 22.04
Kernel: 4.18.0-240.10.1.el8_3.x86_64
Compiler: gcc 11.3.0
Fedora 38
Kernel: Depends on container host
Compiler: gcc 13.1.1
RHEL8
Kernel: 4.18.0-240.10.1.el8_3.x86_64
Compiler: gcc 8.3.1 20191121 (Red Hat 8.3.1-5)
To view detailed results, visit:
https://lab.dpdk.org/results/dashboard/patchsets/26850/
UNH-IOL DPDK Community Lab
To manage your email subscriptions, visit:
https://lab.dpdk.org/results/dashboard/preferences/subscriptions/
More information about the test-report
mailing list