|SUCCESS| pw129058 [PATCH] [v1] examples/fips_validation: fix digest

dpdklab at iol.unh.edu dpdklab at iol.unh.edu
Wed Jun 28 20:35:13 CEST 2023


Test-Label: iol-abi-testing
Test-Status: SUCCESS
http://dpdk.org/patch/129058

_Testing PASS_

Submitter: Samina Arshad <samina.arshad at intel.com>
Date: Wednesday, June 28 2023 14:38:36 
DPDK git baseline: Repo:dpdk
  Branch: master
  CommitID:93a4b3beba4ee611685148917981f846427cafb2

129058 --> testing pass

Test environment and result as below:

+-----------------+----------+
|   Environment   | abi_test |
+=================+==========+
| CentOS Stream 8 | PASS     |
+-----------------+----------+
| RHEL 7          | PASS     |
+-----------------+----------+
| Debian Bullseye | PASS     |
+-----------------+----------+
| Debian Buster   | PASS     |
+-----------------+----------+
| CentOS Stream 9 | PASS     |
+-----------------+----------+
| Fedora 38       | PASS     |
+-----------------+----------+


CentOS Stream 8
	Kernel: 4.18.0-240.10.1.el8_3.x86_64
	Compiler: gcc 8.4.1 20200928

RHEL 7
	Kernel: 4.18.0-240.10.1.el8_3.x86_64
	Compiler: gcc 4.8.5 20150623 (Red Hat 4.8.5-44)

Debian Bullseye
	Kernel: 5.4.0-122-generic
	Compiler: gcc 10.2.1-6

Debian Buster
	Kernel: 5.4.0-122-generic
	Compiler: gcc 8.3.0-6

CentOS Stream 9
	Kernel: 4.18.0-240.10.1.el8_3.x86_64
	Compiler: gcc 11.3.1 20220421

Fedora 38
	Kernel: Depends on container host
	Compiler: gcc 13.1.1

To view detailed results, visit:
https://lab.dpdk.org/results/dashboard/patchsets/26848/

UNH-IOL DPDK Community Lab

To manage your email subscriptions, visit: 
https://lab.dpdk.org/results/dashboard/preferences/subscriptions/


More information about the test-report mailing list