|SUCCESS| pw129056 [PATCH] doc: announce change for building depreca

dpdklab at iol.unh.edu dpdklab at iol.unh.edu
Wed Jun 28 21:48:04 CEST 2023


Test-Label: iol-abi-testing
Test-Status: SUCCESS
http://dpdk.org/patch/129056

_Testing PASS_

Submitter: David Marchand <david.marchand at redhat.com>
Date: Wednesday, June 28 2023 13:43:15 
DPDK git baseline: Repo:dpdk
  Branch: master
  CommitID:93a4b3beba4ee611685148917981f846427cafb2

129056 --> testing pass

Test environment and result as below:

+---------------+----------+
|  Environment  | abi_test |
+===============+==========+
| Fedora 37     | PASS     |
+---------------+----------+
| Debian Buster | PASS     |
+---------------+----------+
| Fedora 38     | PASS     |
+---------------+----------+
| RHEL 7        | PASS     |
+---------------+----------+


Fedora 37
	Kernel: Depends on container host system
	Compiler: gcc 12.3.1

Debian Buster
	Kernel: 5.4.0-122-generic
	Compiler: gcc 8.3.0-6

Fedora 38
	Kernel: Depends on container host
	Compiler: gcc 13.1.1

RHEL 7
	Kernel: 4.18.0-240.10.1.el8_3.x86_64
	Compiler: gcc 4.8.5 20150623 (Red Hat 4.8.5-44)

To view detailed results, visit:
https://lab.dpdk.org/results/dashboard/patchsets/26846/

UNH-IOL DPDK Community Lab

To manage your email subscriptions, visit: 
https://lab.dpdk.org/results/dashboard/preferences/subscriptions/


More information about the test-report mailing list