|SUCCESS| [GIT MASTER] 93a4b3beba4ee611685148917981f846427cafb2

dpdklab at iol.unh.edu dpdklab at iol.unh.edu
Wed Jun 28 22:51:56 CEST 2023


_Testing PASS_

Branch: dpdk

93a4b3beba4ee611685148917981f846427cafb2 --> testing pass

Test environment and result as below:

+-----------------------+----------------+
|      Environment      | dpdk_unit_test |
+=======================+================+
| CentOS Stream 8       | PASS           |
+-----------------------+----------------+
| Arch Linux            | PASS           |
+-----------------------+----------------+
| CentOS Stream 9       | PASS           |
+-----------------------+----------------+
| Debian Buster         | PASS           |
+-----------------------+----------------+
| Debian Bullseye       | PASS           |
+-----------------------+----------------+
| CentOS Stream 9 (ARM) | PASS           |
+-----------------------+----------------+


CentOS Stream 8
	Kernel: 4.18.0-240.10.1.el8_3.x86_64
	Compiler: gcc 8.4.1 20200928

Arch Linux
	Kernel: 5.4.0-73-generic
	Compiler: gcc 11.1.0

CentOS Stream 9
	Kernel: 4.18.0-240.10.1.el8_3.x86_64
	Compiler: gcc 11.3.1 20220421

Debian Buster
	Kernel: 5.4.0-122-generic
	Compiler: gcc 8.3.0-6

Debian Bullseye
	Kernel: 5.4.0-122-generic
	Compiler: gcc 10.2.1-6

CentOS Stream 9 (ARM)
	Kernel: Container Host Kernel
	Compiler: gcc 11.3.1

To view detailed results, visit:
https://lab.dpdk.org/results/dashboard/tarballs/25211/

UNH-IOL DPDK Community Lab

To manage your email subscriptions, visit: 
https://lab.dpdk.org/results/dashboard/preferences/subscriptions/


More information about the test-report mailing list