|SUCCESS| pw129044 [PATCH] [v2] raw/ntb: add check for disabling int

dpdklab at iol.unh.edu dpdklab at iol.unh.edu
Thu Jun 29 01:07:13 CEST 2023


Test-Label: iol-abi-testing
Test-Status: SUCCESS
http://dpdk.org/patch/129044

_Testing PASS_

Submitter: Junfeng Guo <junfeng.guo at intel.com>
Date: Wednesday, June 28 2023 09:12:18 
DPDK git baseline: Repo:dpdk
  Branch: master
  CommitID:93a4b3beba4ee611685148917981f846427cafb2

129044 --> testing pass

Test environment and result as below:

+-----------------+----------+
|   Environment   | abi_test |
+=================+==========+
| CentOS Stream 8 | PASS     |
+-----------------+----------+
| Debian Bullseye | PASS     |
+-----------------+----------+
| CentOS Stream 9 | PASS     |
+-----------------+----------+


CentOS Stream 8
	Kernel: 4.18.0-240.10.1.el8_3.x86_64
	Compiler: gcc 8.4.1 20200928

Debian Bullseye
	Kernel: 5.4.0-122-generic
	Compiler: gcc 10.2.1-6

CentOS Stream 9
	Kernel: 4.18.0-240.10.1.el8_3.x86_64
	Compiler: gcc 11.3.1 20220421

To view detailed results, visit:
https://lab.dpdk.org/results/dashboard/patchsets/26840/

UNH-IOL DPDK Community Lab

To manage your email subscriptions, visit: 
https://lab.dpdk.org/results/dashboard/preferences/subscriptions/


More information about the test-report mailing list