|SUCCESS| pw129045 [PATCH] [v2] app/testpmd: add dump command help m
dpdklab at iol.unh.edu
dpdklab at iol.unh.edu
Thu Jun 29 02:26:36 CEST 2023
Test-Label: iol-aarch-unit-testing
Test-Status: SUCCESS
http://dpdk.org/patch/129045
_Testing PASS_
Submitter: Viacheslav Ovsiienko <viacheslavo at nvidia.com>
Date: Wednesday, June 28 2023 09:54:29
DPDK git baseline: Repo:dpdk
Branch: master
CommitID:93a4b3beba4ee611685148917981f846427cafb2
129045 --> testing pass
Test environment and result as below:
+-----------------------------+--------------+------------------------------+---------------------------+----------------+
| Environment | lpm_autotest | cryptodev_sw_snow3g_autotest | cryptodev_sw_zuc_autotest | dpdk_unit_test |
+=============================+==============+==============================+===========================+================+
| Ubuntu 20.04 ARM SVE | PASS | SKIPPED | SKIPPED | SKIPPED |
+-----------------------------+--------------+------------------------------+---------------------------+----------------+
| Debian 11 | SKIPPED | PASS | PASS | SKIPPED |
+-----------------------------+--------------+------------------------------+---------------------------+----------------+
| (32-bit) ARM Ubuntu 20.04.4 | SKIPPED | SKIPPED | SKIPPED | PASS |
+-----------------------------+--------------+------------------------------+---------------------------+----------------+
Ubuntu 20.04 ARM SVE
Kernel: 5.4.0-80-generic
Compiler: gcc 10.3.0 (Ubuntu 10.3.0-1ubuntu1~20.04)
Debian 11
Kernel: Container Host Kernel
Compiler: gcc 10.2.1
(32-bit) ARM Ubuntu 20.04.4
Kernel: 5.4.0-148-generic aarch64
Compiler: gcc 9.4
To view detailed results, visit:
https://lab.dpdk.org/results/dashboard/patchsets/26841/
UNH-IOL DPDK Community Lab
To manage your email subscriptions, visit:
https://lab.dpdk.org/results/dashboard/preferences/subscriptions/
More information about the test-report
mailing list