|SUCCESS| pw129092 [PATCH] [v2] pci: add O_CLOEXEC when open uio dev

dpdklab at iol.unh.edu dpdklab at iol.unh.edu
Thu Jun 29 19:57:33 CEST 2023


Test-Label: iol-abi-testing
Test-Status: SUCCESS
http://dpdk.org/patch/129092

_Testing PASS_

Submitter: Weifeng Su <suweifeng1 at huawei.com>
Date: Thursday, June 29 2023 02:53:39 
DPDK git baseline: Repo:dpdk
  Branch: master
  CommitID:93a4b3beba4ee611685148917981f846427cafb2

129092 --> testing pass

Test environment and result as below:

+------------------+----------+
|   Environment    | abi_test |
+==================+==========+
| CentOS Stream 9  | PASS     |
+------------------+----------+
| openSUSE Leap 15 | PASS     |
+------------------+----------+
| Ubuntu 22.04     | PASS     |
+------------------+----------+


CentOS Stream 9
	Kernel: 4.18.0-240.10.1.el8_3.x86_64
	Compiler: gcc 11.3.1 20220421

openSUSE Leap 15
	Kernel: 4.18.0-240.10.1.el8_3.x86_64
	Compiler: gcc 7.5.0

Ubuntu 22.04
	Kernel: 4.18.0-240.10.1.el8_3.x86_64
	Compiler: gcc 11.3.0

To view detailed results, visit:
https://lab.dpdk.org/results/dashboard/patchsets/26859/

UNH-IOL DPDK Community Lab

To manage your email subscriptions, visit: 
https://lab.dpdk.org/results/dashboard/preferences/subscriptions/


More information about the test-report mailing list