|SUCCESS| pw129129 [PATCH] vhost: add notify reply ops to avoid mess
dpdklab at iol.unh.edu
dpdklab at iol.unh.edu
Fri Jun 30 06:32:38 CEST 2023
Test-Label: iol-aarch-unit-testing
Test-Status: SUCCESS
http://dpdk.org/patch/129129
_Testing PASS_
Submitter: Rma Ma <rma.ma at jaguarmicro.com>
Date: Friday, June 30 2023 03:27:03
DPDK git baseline: Repo:dpdk
Branch: master
CommitID:93a4b3beba4ee611685148917981f846427cafb2
129129 --> testing pass
Test environment and result as below:
+-----------------------------+------------------------------+---------------------------+----------------+--------------+
| Environment | cryptodev_sw_snow3g_autotest | cryptodev_sw_zuc_autotest | dpdk_unit_test | lpm_autotest |
+=============================+==============================+===========================+================+==============+
| Debian 11 | PASS | PASS | SKIPPED | SKIPPED |
+-----------------------------+------------------------------+---------------------------+----------------+--------------+
| (32-bit) ARM Ubuntu 20.04.4 | SKIPPED | SKIPPED | PASS | SKIPPED |
+-----------------------------+------------------------------+---------------------------+----------------+--------------+
| Ubuntu 20.04 ARM SVE | SKIPPED | SKIPPED | SKIPPED | PASS |
+-----------------------------+------------------------------+---------------------------+----------------+--------------+
Debian 11
Kernel: Container Host Kernel
Compiler: gcc 10.2.1
(32-bit) ARM Ubuntu 20.04.4
Kernel: 5.4.0-148-generic aarch64
Compiler: gcc 9.4
Ubuntu 20.04 ARM SVE
Kernel: 5.4.0-80-generic
Compiler: gcc 10.3.0 (Ubuntu 10.3.0-1ubuntu1~20.04)
To view detailed results, visit:
https://lab.dpdk.org/results/dashboard/patchsets/26874/
UNH-IOL DPDK Community Lab
To manage your email subscriptions, visit:
https://lab.dpdk.org/results/dashboard/preferences/subscriptions/
More information about the test-report
mailing list