|SUCCESS| pw126640-126653 [PATCH] [v8, 14/14] eal: do not define typeof macro when building with MSVC
dpdklab at iol.unh.edu
dpdklab at iol.unh.edu
Tue May 2 07:28:35 CEST 2023
Test-Label: iol-aarch64-unit-testing
Test-Status: SUCCESS
http://dpdk.org/patch/126653
_Testing PASS_
Submitter: Tyler Retzlaff <roretzla at linux.microsoft.com>
Date: Tuesday, May 02 2023 03:15:41
DPDK git baseline: Repo:dpdk
Branch: master
CommitID:d03446724972d2a1bb645ce7f3e64f5ef0203d61
126640-126653 --> testing pass
Test environment and result as below:
+----------------------+---------------------------+--------------+------------------------------+
| Environment | cryptodev_sw_zuc_autotest | lpm_autotest | cryptodev_sw_snow3g_autotest |
+======================+===========================+==============+==============================+
| Debian 11 | PASS | SKIPPED | PASS |
+----------------------+---------------------------+--------------+------------------------------+
| Ubuntu 20.04 ARM SVE | SKIPPED | PASS | SKIPPED |
+----------------------+---------------------------+--------------+------------------------------+
Debian 11
Kernel: Container Host Kernel
Compiler: gcc 10.2.1
Ubuntu 20.04 ARM SVE
Kernel: 5.4.0-80-generic
Compiler: gcc 10.3.0 (Ubuntu 10.3.0-1ubuntu1~20.04)
To view detailed results, visit:
https://lab.dpdk.org/results/dashboard/patchsets/26142/
UNH-IOL DPDK Community Lab
To manage your email subscriptions, visit:
https://lab.dpdk.org/results/dashboard/preferences/subscriptions/
More information about the test-report
mailing list