|SUCCESS| pw126666 [PATCH] [V3] lib: set/get max memzone segments
dpdklab at iol.unh.edu
dpdklab at iol.unh.edu
Wed May 3 10:45:37 CEST 2023
Test-Label: iol-aarch64-unit-testing
Test-Status: SUCCESS
http://dpdk.org/patch/126666
_Testing PASS_
Submitter: Ophir Munk <ophirmu at nvidia.com>
Date: Wednesday, May 03 2023 07:26:41
DPDK git baseline: Repo:dpdk
Branch: master
CommitID:d03446724972d2a1bb645ce7f3e64f5ef0203d61
126666 --> testing pass
Test environment and result as below:
+----------------------+--------------+---------------------------+------------------------------+
| Environment | lpm_autotest | cryptodev_sw_zuc_autotest | cryptodev_sw_snow3g_autotest |
+======================+==============+===========================+==============================+
| Ubuntu 20.04 ARM SVE | PASS | SKIPPED | SKIPPED |
+----------------------+--------------+---------------------------+------------------------------+
| Debian 11 | SKIPPED | PASS | PASS |
+----------------------+--------------+---------------------------+------------------------------+
Ubuntu 20.04 ARM SVE
Kernel: 5.4.0-80-generic
Compiler: gcc 10.3.0 (Ubuntu 10.3.0-1ubuntu1~20.04)
Debian 11
Kernel: Container Host Kernel
Compiler: gcc 10.2.1
To view detailed results, visit:
https://lab.dpdk.org/results/dashboard/patchsets/26153/
UNH-IOL DPDK Community Lab
To manage your email subscriptions, visit:
https://lab.dpdk.org/results/dashboard/preferences/subscriptions/
More information about the test-report
mailing list