|SUCCESS| pw126725 [PATCH] app/test-pmd: fix not polling all queues without defered starting
dpdklab at iol.unh.edu
dpdklab at iol.unh.edu
Sat May 6 12:55:53 CEST 2023
Test-Label: iol-abi-testing
Test-Status: SUCCESS
http://dpdk.org/patch/126725
_Testing PASS_
Submitter: Jie Hai <haijie1 at huawei.com>
Date: Saturday, May 06 2023 09:26:35
DPDK git baseline: Repo:dpdk
Branch: master
CommitID:d03446724972d2a1bb645ce7f3e64f5ef0203d61
126725 --> testing pass
Test environment and result as below:
+-----------------+----------+
| Environment | abi_test |
+=================+==========+
| RHEL8 | PASS |
+-----------------+----------+
| CentOS Stream 9 | PASS |
+-----------------+----------+
| Debian Bullseye | PASS |
+-----------------+----------+
RHEL8
Kernel: 4.18.0-240.10.1.el8_3.x86_64
Compiler: gcc 8.3.1 20191121 (Red Hat 8.3.1-5)
CentOS Stream 9
Kernel: 4.18.0-240.10.1.el8_3.x86_64
Compiler: gcc 11.3.1 20220421
Debian Bullseye
Kernel: 5.4.0-122-generic
Compiler: gcc 10.2.1-6
To view detailed results, visit:
https://lab.dpdk.org/results/dashboard/patchsets/26177/
UNH-IOL DPDK Community Lab
To manage your email subscriptions, visit:
https://lab.dpdk.org/results/dashboard/preferences/subscriptions/
More information about the test-report
mailing list