|SUCCESS| pw126770 [PATCH] [v2] net/gve: check driver compatibility
dpdklab at iol.unh.edu
dpdklab at iol.unh.edu
Mon May 8 22:09:39 CEST 2023
Test-Label: iol-abi-testing
Test-Status: SUCCESS
http://dpdk.org/patch/126770
_Testing PASS_
Submitter: Rushil Gupta <rushilg at google.com>
Date: Monday, May 08 2023 19:15:52
DPDK git baseline: Repo:dpdk
Branch: master
CommitID:d03446724972d2a1bb645ce7f3e64f5ef0203d61
126770 --> testing pass
Test environment and result as below:
+------------------+----------+
| Environment | abi_test |
+==================+==========+
| Ubuntu 22.04 | PASS |
+------------------+----------+
| CentOS Stream 9 | PASS |
+------------------+----------+
| openSUSE Leap 15 | PASS |
+------------------+----------+
Ubuntu 22.04
Kernel: Container Host Kernel
Compiler: gcc 11.3.1-2
CentOS Stream 9
Kernel: 4.18.0-240.10.1.el8_3.x86_64
Compiler: gcc 11.3.1 20220421
openSUSE Leap 15
Kernel: 4.18.0-240.10.1.el8_3.x86_64
Compiler: gcc 7.5.0
To view detailed results, visit:
https://lab.dpdk.org/results/dashboard/patchsets/26193/
UNH-IOL DPDK Community Lab
To manage your email subscriptions, visit:
https://lab.dpdk.org/results/dashboard/preferences/subscriptions/
More information about the test-report
mailing list