|SUCCESS| pw126826 [PATCH] net/nfp: fix the VLAN push flow action

dpdklab at iol.unh.edu dpdklab at iol.unh.edu
Fri May 12 21:07:53 CEST 2023


Test-Label: iol-abi-testing
Test-Status: SUCCESS
http://dpdk.org/patch/126826

_Testing PASS_

Submitter: Chaoyong He <chaoyong.he at corigine.com>
Date: Friday, May 12 2023 02:03:46 
DPDK git baseline: Repo:dpdk
  Branch: master
  CommitID:d03446724972d2a1bb645ce7f3e64f5ef0203d61

126826 --> testing pass

Test environment and result as below:

+-----------------+----------+
|   Environment   | abi_test |
+=================+==========+
| Debian Bullseye | PASS     |
+-----------------+----------+
| CentOS Stream 9 | PASS     |
+-----------------+----------+
| CentOS Stream 8 | PASS     |
+-----------------+----------+
| Ubuntu 22.04    | PASS     |
+-----------------+----------+


Debian Bullseye
	Kernel: 5.4.0-122-generic
	Compiler: gcc 10.2.1-6

CentOS Stream 9
	Kernel: 4.18.0-240.10.1.el8_3.x86_64
	Compiler: gcc 11.3.1 20220421

CentOS Stream 8
	Kernel: 4.18.0-240.10.1.el8_3.x86_64
	Compiler: gcc 8.4.1 20200928

Ubuntu 22.04
	Kernel: Container Host Kernel
	Compiler: gcc 11.3.1-2

To view detailed results, visit:
https://lab.dpdk.org/results/dashboard/patchsets/26213/

UNH-IOL DPDK Community Lab

To manage your email subscriptions, visit: 
https://lab.dpdk.org/results/dashboard/preferences/subscriptions/


More information about the test-report mailing list