|SUCCESS| [GIT MASTER] dbff181d62c997f128b75db2bbac9f42e8dd0f8f

dpdklab at iol.unh.edu dpdklab at iol.unh.edu
Mon May 15 03:32:24 CEST 2023


_Testing PASS_

Branch: dpdk

dbff181d62c997f128b75db2bbac9f42e8dd0f8f --> testing pass

Test environment and result as below:

+------------------+----------+
|   Environment    | abi_test |
+==================+==========+
| Ubuntu 22.04     | PASS     |
+------------------+----------+
| RHEL 7           | PASS     |
+------------------+----------+
| Debian Bullseye  | PASS     |
+------------------+----------+
| openSUSE Leap 15 | PASS     |
+------------------+----------+
| Arch Linux       | PASS     |
+------------------+----------+


Ubuntu 22.04
	Kernel: 4.18.0-240.10.1.el8_3.x86_64
	Compiler: gcc 11.3.0

RHEL 7
	Kernel: 4.18.0-240.10.1.el8_3.x86_64
	Compiler: gcc 4.8.5 20150623 (Red Hat 4.8.5-44)

Debian Bullseye
	Kernel: 5.4.0-122-generic
	Compiler: gcc 10.2.1-6

openSUSE Leap 15
	Kernel: 4.18.0-240.10.1.el8_3.x86_64
	Compiler: gcc 7.5.0

Arch Linux
	Kernel: 5.4.0-73-generic
	Compiler: gcc 11.1.0

To view detailed results, visit:
https://lab.dpdk.org/results/dashboard/tarballs/24552/

UNH-IOL DPDK Community Lab

To manage your email subscriptions, visit: 
https://lab.dpdk.org/results/dashboard/preferences/subscriptions/


More information about the test-report mailing list