|SUCCESS| pw126856 [PATCH] [v1] doc: updated libcrypto dependencies in QAT guide
dpdklab at iol.unh.edu
dpdklab at iol.unh.edu
Mon May 15 17:55:34 CEST 2023
Test-Label: iol-abi-testing
Test-Status: SUCCESS
http://dpdk.org/patch/126856
_Testing PASS_
Submitter: Samina Arshad <samina.arshad at intel.com>
Date: Monday, May 15 2023 13:17:58
DPDK git baseline: Repo:dpdk
Branch: master
CommitID:dbff181d62c997f128b75db2bbac9f42e8dd0f8f
126856 --> testing pass
Test environment and result as below:
+-----------------+----------+
| Environment | abi_test |
+=================+==========+
| Ubuntu 22.04 | PASS |
+-----------------+----------+
| CentOS Stream 8 | PASS |
+-----------------+----------+
| RHEL 7 | PASS |
+-----------------+----------+
Ubuntu 22.04
Kernel: 4.18.0-240.10.1.el8_3.x86_64
Compiler: gcc 11.3.0
CentOS Stream 8
Kernel: 4.18.0-240.10.1.el8_3.x86_64
Compiler: gcc 8.4.1 20200928
RHEL 7
Kernel: 4.18.0-240.10.1.el8_3.x86_64
Compiler: gcc 4.8.5 20150623 (Red Hat 4.8.5-44)
To view detailed results, visit:
https://lab.dpdk.org/results/dashboard/patchsets/26227/
UNH-IOL DPDK Community Lab
To manage your email subscriptions, visit:
https://lab.dpdk.org/results/dashboard/preferences/subscriptions/
More information about the test-report
mailing list