|SUCCESS| pw126873-126875 [PATCH] [3/3] examples/l3fwd-graph: add IPv6 lookup and rewrite support
dpdklab at iol.unh.edu
dpdklab at iol.unh.edu
Tue May 16 12:17:28 CEST 2023
Test-Label: iol-abi-testing
Test-Status: SUCCESS
http://dpdk.org/patch/126875
_Testing PASS_
Submitter: Amit Prakash Shukla <amitprakashs at marvell.com>
Date: Tuesday, May 16 2023 09:11:56
DPDK git baseline: Repo:dpdk
Branch: master
CommitID:a399d7b5a994e335c446d4b15d7622d71dd8848c
126873-126875 --> testing pass
Test environment and result as below:
+-----------------+----------+
| Environment | abi_test |
+=================+==========+
| Ubuntu 22.04 | PASS |
+-----------------+----------+
| RHEL 7 | PASS |
+-----------------+----------+
| Debian Bullseye | PASS |
+-----------------+----------+
| CentOS Stream 9 | PASS |
+-----------------+----------+
Ubuntu 22.04
Kernel: 4.18.0-240.10.1.el8_3.x86_64
Compiler: gcc 11.3.0
RHEL 7
Kernel: 4.18.0-240.10.1.el8_3.x86_64
Compiler: gcc 4.8.5 20150623 (Red Hat 4.8.5-44)
Debian Bullseye
Kernel: 5.4.0-122-generic
Compiler: gcc 10.2.1-6
CentOS Stream 9
Kernel: 4.18.0-240.10.1.el8_3.x86_64
Compiler: gcc 11.3.1 20220421
To view detailed results, visit:
https://lab.dpdk.org/results/dashboard/patchsets/26233/
UNH-IOL DPDK Community Lab
To manage your email subscriptions, visit:
https://lab.dpdk.org/results/dashboard/preferences/subscriptions/
More information about the test-report
mailing list