|SUCCESS| pw126878 [PATCH] net/ice: DCF adds default RSS
dpdklab at iol.unh.edu
dpdklab at iol.unh.edu
Tue May 16 13:36:52 CEST 2023
Test-Label: iol-abi-testing
Test-Status: SUCCESS
http://dpdk.org/patch/126878
_Testing PASS_
Submitter: Mingjin Ye <mingjinx.ye at intel.com>
Date: Tuesday, May 16 2023 10:25:10
DPDK git baseline: Repo:dpdk
Branch: master
CommitID:a399d7b5a994e335c446d4b15d7622d71dd8848c
126878 --> testing pass
Test environment and result as below:
+------------------+----------+
| Environment | abi_test |
+==================+==========+
| CentOS Stream 9 | PASS |
+------------------+----------+
| Debian Bullseye | PASS |
+------------------+----------+
| openSUSE Leap 15 | PASS |
+------------------+----------+
| CentOS Stream 8 | PASS |
+------------------+----------+
CentOS Stream 9
Kernel: 4.18.0-240.10.1.el8_3.x86_64
Compiler: gcc 11.3.1 20220421
Debian Bullseye
Kernel: 5.4.0-122-generic
Compiler: gcc 10.2.1-6
openSUSE Leap 15
Kernel: 4.18.0-240.10.1.el8_3.x86_64
Compiler: gcc 7.5.0
CentOS Stream 8
Kernel: 4.18.0-240.10.1.el8_3.x86_64
Compiler: gcc 8.4.1 20200928
To view detailed results, visit:
https://lab.dpdk.org/results/dashboard/patchsets/26236/
UNH-IOL DPDK Community Lab
To manage your email subscriptions, visit:
https://lab.dpdk.org/results/dashboard/preferences/subscriptions/
More information about the test-report
mailing list