|SUCCESS| pw126877 [PATCH] [v3] doc: comment VF does not support multi-process
dpdklab at iol.unh.edu
dpdklab at iol.unh.edu
Tue May 16 16:19:33 CEST 2023
Test-Label: iol-abi-testing
Test-Status: SUCCESS
http://dpdk.org/patch/126877
_Testing PASS_
Submitter: Mingjin Ye <mingjinx.ye at intel.com>
Date: Tuesday, May 16 2023 10:22:05
DPDK git baseline: Repo:dpdk
Branch: master
CommitID:a399d7b5a994e335c446d4b15d7622d71dd8848c
126877 --> testing pass
Test environment and result as below:
+-----------------+----------+
| Environment | abi_test |
+=================+==========+
| CentOS Stream 9 | PASS |
+-----------------+----------+
| Debian Bullseye | PASS |
+-----------------+----------+
| Debian Buster | PASS |
+-----------------+----------+
| RHEL8 | PASS |
+-----------------+----------+
| Ubuntu 22.04 | PASS |
+-----------------+----------+
CentOS Stream 9
Kernel: 4.18.0-240.10.1.el8_3.x86_64
Compiler: gcc 11.3.1 20220421
Debian Bullseye
Kernel: 5.4.0-122-generic
Compiler: gcc 10.2.1-6
Debian Buster
Kernel: 5.4.0-122-generic
Compiler: gcc 8.3.0-6
RHEL8
Kernel: 4.18.0-240.10.1.el8_3.x86_64
Compiler: gcc 8.3.1 20191121 (Red Hat 8.3.1-5)
Ubuntu 22.04
Kernel: Container Host Kernel
Compiler: clang 14.0.5-1.fc36
To view detailed results, visit:
https://lab.dpdk.org/results/dashboard/patchsets/26235/
UNH-IOL DPDK Community Lab
To manage your email subscriptions, visit:
https://lab.dpdk.org/results/dashboard/preferences/subscriptions/
More information about the test-report
mailing list