|SUCCESS| pw126959 [PATCH] [v14] app/procinfo: display eventdev xstats

dpdklab at iol.unh.edu dpdklab at iol.unh.edu
Thu May 18 02:29:26 CEST 2023


Test-Label: iol-abi-testing
Test-Status: SUCCESS
http://dpdk.org/patch/126959

_Testing PASS_

Submitter: Sevincer, Abdullah <abdullah.sevincer at intel.com>
Date: Wednesday, May 17 2023 22:37:24 
DPDK git baseline: Repo:dpdk
  Branch: master
  CommitID:a399d7b5a994e335c446d4b15d7622d71dd8848c

126959 --> testing pass

Test environment and result as below:

+-----------------+----------+
|   Environment   | abi_test |
+=================+==========+
| RHEL 7          | PASS     |
+-----------------+----------+
| Debian Buster   | PASS     |
+-----------------+----------+
| CentOS Stream 9 | PASS     |
+-----------------+----------+


RHEL 7
	Kernel: 4.18.0-240.10.1.el8_3.x86_64
	Compiler: gcc 4.8.5 20150623 (Red Hat 4.8.5-44)

Debian Buster
	Kernel: 5.4.0-122-generic
	Compiler: gcc 8.3.0-6

CentOS Stream 9
	Kernel: 4.18.0-240.10.1.el8_3.x86_64
	Compiler: gcc 11.3.1 20220421

To view detailed results, visit:
https://lab.dpdk.org/results/dashboard/patchsets/26270/

UNH-IOL DPDK Community Lab

To manage your email subscriptions, visit: 
https://lab.dpdk.org/results/dashboard/preferences/subscriptions/


More information about the test-report mailing list