|SUCCESS| [GIT MASTER] a399d7b5a994e335c446d4b15d7622d71dd8848c

dpdklab at iol.unh.edu dpdklab at iol.unh.edu
Sun May 21 04:06:48 CEST 2023


_Testing PASS_

Branch: dpdk

a399d7b5a994e335c446d4b15d7622d71dd8848c --> testing pass

Test environment and result as below:

+------------------+----------------------------------+
|   Environment    | dpdk_kmod_compile_torvalds_linux |
+==================+==================================+
| openSUSE Leap 15 | PASS                             |
+------------------+----------------------------------+
| CentOS Stream 9  | PASS                             |
+------------------+----------------------------------+
| CentOS Stream 8  | PASS                             |
+------------------+----------------------------------+
| Debian Buster    | PASS                             |
+------------------+----------------------------------+
| Ubuntu 22.04     | PASS                             |
+------------------+----------------------------------+
| Debian Bullseye  | PASS                             |
+------------------+----------------------------------+
| RHEL8            | PASS                             |
+------------------+----------------------------------+
| Ubuntu 20.04     | PASS                             |
+------------------+----------------------------------+
| Arch Linux       | PASS                             |
+------------------+----------------------------------+


openSUSE Leap 15
	Kernel: 4.18.0-240.10.1.el8_3.x86_64
	Compiler: gcc 7.5.0

CentOS Stream 9
	Kernel: 4.18.0-240.10.1.el8_3.x86_64
	Compiler: gcc 11.3.1 20220421

CentOS Stream 8
	Kernel: 4.18.0-240.10.1.el8_3.x86_64
	Compiler: gcc 8.4.1 20200928

Debian Buster
	Kernel: 5.4.0-122-generic
	Compiler: gcc 8.3.0-6

Ubuntu 22.04
	Kernel: Container Host Kernel
	Compiler: gcc 12.2.1-2

Debian Bullseye
	Kernel: 5.4.0-122-generic
	Compiler: gcc 10.2.1-6

RHEL8
	Kernel: 4.18.0-240.10.1.el8_3.x86_64
	Compiler: gcc 8.3.1 20191121 (Red Hat 8.3.1-5)

Ubuntu 20.04
	Kernel: 4.18.0-240.10.1.el8_3.x86_64
	Compiler: gcc 9.3.0-17ubuntu1~20.04

Arch Linux
	Kernel: 5.4.0-73-generic
	Compiler: gcc 11.1.0

To view detailed results, visit:
https://lab.dpdk.org/results/dashboard/tarballs/24653/

UNH-IOL DPDK Community Lab

To manage your email subscriptions, visit: 
https://lab.dpdk.org/results/dashboard/preferences/subscriptions/


More information about the test-report mailing list