|SUCCESS| pw127137 [PATCH] [v2] drivers: invalidate dangling MAE flo
dpdklab at iol.unh.edu
dpdklab at iol.unh.edu
Sun May 21 11:40:42 CEST 2023
Test-Label: iol-aarch64-unit-testing
Test-Status: SUCCESS
http://dpdk.org/patch/127137
_Testing PASS_
Submitter: Ivan Malov <ivan.malov at arknetworks.am>
Date: Sunday, May 21 2023 08:36:31
DPDK git baseline: Repo:dpdk
Branch: master
CommitID:a399d7b5a994e335c446d4b15d7622d71dd8848c
127137 --> testing pass
Test environment and result as below:
+----------------------+---------------------------+------------------------------+--------------+
| Environment | cryptodev_sw_zuc_autotest | cryptodev_sw_snow3g_autotest | lpm_autotest |
+======================+===========================+==============================+==============+
| Debian 11 | PASS | PASS | SKIPPED |
+----------------------+---------------------------+------------------------------+--------------+
| Ubuntu 20.04 ARM SVE | SKIPPED | SKIPPED | PASS |
+----------------------+---------------------------+------------------------------+--------------+
Debian 11
Kernel: Container Host Kernel
Compiler: gcc 10.2.1
Ubuntu 20.04 ARM SVE
Kernel: 5.4.0-80-generic
Compiler: gcc 10.3.0 (Ubuntu 10.3.0-1ubuntu1~20.04)
To view detailed results, visit:
https://lab.dpdk.org/results/dashboard/patchsets/26320/
UNH-IOL DPDK Community Lab
To manage your email subscriptions, visit:
https://lab.dpdk.org/results/dashboard/preferences/subscriptions/
More information about the test-report
mailing list